BEGIN:VCALENDAR
VERSION:2.0
PRODID:-//hacksw/handcal//NONSGML v1.0//EN
BEGIN:VEVENT
SUMMARY:Stage departemental Benjamins - Minimes - Cadets - Les Andelys (27)
UID:a2050b77-f71a-4e81-81ee-462c23fa4002
DTSTART:20260413T073000Z
DTEND:20260414T140000Z
LOCATION:Localisation Gymnase Henri Boyer, Rue Henri Raymond Phelip 27700 Les Andelys
CATEGORIES:Sportif
STATUS:
DESCRIPTION:<p><span style="font-size:11pt;"><span
 style="font-family:Arial, sans-serif;"><b>Stage ouvert a tous les
 Benjamins, Minimes et Cadets.</b></span></span></p>
 
 <p><span
 style="font-size:11pt;"><span style="font-family:Arial,
 sans-serif;"><b>Prevoir un pique-nique pour les deux
 jours.</b></span></span></p>
 
 <p><span style="font-size:11pt;"><span
 style="font-family:Arial, sans-serif;"><b><span
 style="color:#0070c0;">Inscription obligatoire via
 Extranet.</span></b></span></span></p>
 
 <p><span
 style="font-size:11pt;"><span style="font-family:Arial,
 sans-serif;"><b><span style="color:#0070c0;">Se rapprocher de votre
 Professeur.</span></b></span></span></p>
URL;VALUE=URI:https://www.judoclubgaillon.fr/evenements/2026/04/13/stage-departemental-benjamins-minimes-cadets-les-andelys-27-2439285
END:VEVENT
END:VCALENDAR
